BEGIN:VCALENDAR
VERSION:2.0
PRODID:-//Kathleen Dean Moore - ECPv6.15.18//NONSGML v1.0//EN
CALSCALE:GREGORIAN
METHOD:PUBLISH
X-WR-CALNAME:Kathleen Dean Moore
X-ORIGINAL-URL:https://kathleendeanmoore.net
X-WR-CALDESC:Events for Kathleen Dean Moore
REFRESH-INTERVAL;VALUE=DURATION:PT1H
X-Robots-Tag:noindex
X-PUBLISHED-TTL:PT1H
BEGIN:VTIMEZONE
TZID:America/Los_Angeles
BEGIN:DAYLIGHT
TZOFFSETFROM:-0800
TZOFFSETTO:-0700
TZNAME:PDT
DTSTART:20220313T100000
END:DAYLIGHT
BEGIN:STANDARD
TZOFFSETFROM:-0700
TZOFFSETTO:-0800
TZNAME:PST
DTSTART:20221106T090000
END:STANDARD
BEGIN:DAYLIGHT
TZOFFSETFROM:-0800
TZOFFSETTO:-0700
TZNAME:PDT
DTSTART:20230312T100000
END:DAYLIGHT
BEGIN:STANDARD
TZOFFSETFROM:-0700
TZOFFSETTO:-0800
TZNAME:PST
DTSTART:20231105T090000
END:STANDARD
BEGIN:DAYLIGHT
TZOFFSETFROM:-0800
TZOFFSETTO:-0700
TZNAME:PDT
DTSTART:20240310T100000
END:DAYLIGHT
BEGIN:STANDARD
TZOFFSETFROM:-0700
TZOFFSETTO:-0800
TZNAME:PST
DTSTART:20241103T090000
END:STANDARD
END:VTIMEZONE
BEGIN:VEVENT
DTSTART;TZID=America/Los_Angeles:20230316T093000
DTEND;TZID=America/Los_Angeles:20230316T103000
DTSTAMP:20260422T110230
CREATED:20221127T170516Z
LAST-MODIFIED:20221127T170520Z
UID:406-1678959000-1678962600@kathleendeanmoore.net
SUMMARY:Kathleen Speaks about "What it Means to Love a Place"
DESCRIPTION:To the Jefferson Land Trust Conservation Breakfast\, Kathleen will speak about “What It Means to Love a Place.” Free zoom. Details TBA.
URL:https://kathleendeanmoore.net/event/kathleen-speaks-about-what-it-means-to-love-a-place/
CATEGORIES:Keynotes/Speaking
END:VEVENT
BEGIN:VEVENT
DTSTART;TZID=America/Los_Angeles:20230307T092000
DTEND;TZID=America/Los_Angeles:20230307T100000
DTSTAMP:20260422T110230
CREATED:20221127T170337Z
LAST-MODIFIED:20221127T170341Z
UID:402-1678180800-1678183200@kathleendeanmoore.net
SUMMARY:Keynote Address by Kathleen Dean Moore
DESCRIPTION:Keynote address to NW sustainability advocates. Zoom/fee. https://wohesc.org/program/
URL:https://kathleendeanmoore.net/event/keynote-address-by-kathleen-dean-moore/
CATEGORIES:Keynotes/Speaking
END:VEVENT
END:VCALENDAR