BEGIN:VCALENDAR
VERSION:2.0
PRODID:-//Kathleen Dean Moore - ECPv6.15.18//NONSGML v1.0//EN
CALSCALE:GREGORIAN
METHOD:PUBLISH
X-ORIGINAL-URL:https://kathleendeanmoore.net
X-WR-CALDESC:Events for Kathleen Dean Moore
REFRESH-INTERVAL;VALUE=DURATION:PT1H
X-Robots-Tag:noindex
X-PUBLISHED-TTL:PT1H
BEGIN:VTIMEZONE
TZID:America/Los_Angeles
BEGIN:DAYLIGHT
TZOFFSETFROM:-0800
TZOFFSETTO:-0700
TZNAME:PDT
DTSTART:20100314T100000
END:DAYLIGHT
BEGIN:STANDARD
TZOFFSETFROM:-0700
TZOFFSETTO:-0800
TZNAME:PST
DTSTART:20101107T090000
END:STANDARD
BEGIN:DAYLIGHT
TZOFFSETFROM:-0800
TZOFFSETTO:-0700
TZNAME:PDT
DTSTART:20110313T100000
END:DAYLIGHT
BEGIN:STANDARD
TZOFFSETFROM:-0700
TZOFFSETTO:-0800
TZNAME:PST
DTSTART:20111106T090000
END:STANDARD
BEGIN:DAYLIGHT
TZOFFSETFROM:-0800
TZOFFSETTO:-0700
TZNAME:PDT
DTSTART:20120311T100000
END:DAYLIGHT
BEGIN:STANDARD
TZOFFSETFROM:-0700
TZOFFSETTO:-0800
TZNAME:PST
DTSTART:20121104T090000
END:STANDARD
BEGIN:DAYLIGHT
TZOFFSETFROM:-0800
TZOFFSETTO:-0700
TZNAME:PDT
DTSTART:20130310T100000
END:DAYLIGHT
BEGIN:STANDARD
TZOFFSETFROM:-0700
TZOFFSETTO:-0800
TZNAME:PST
DTSTART:20131103T090000
END:STANDARD
BEGIN:DAYLIGHT
TZOFFSETFROM:-0800
TZOFFSETTO:-0700
TZNAME:PDT
DTSTART:20140309T100000
END:DAYLIGHT
BEGIN:STANDARD
TZOFFSETFROM:-0700
TZOFFSETTO:-0800
TZNAME:PST
DTSTART:20141102T090000
END:STANDARD
END:VTIMEZONE
BEGIN:VEVENT
DTSTART;TZID=America/Los_Angeles:20131231T080000
DTEND;TZID=America/Los_Angeles:20131231T170000
DTSTAMP:20260422T092445
CREATED:20221127T192359Z
LAST-MODIFIED:20221127T192403Z
UID:450-1388476800-1388509200@kathleendeanmoore.net
SUMMARY:All 2013 Events
DESCRIPTION:January 30\, 2013Panel member for “Pedagogy of Hope: Inspiring Social Advocacy\,” sponsored by Oregon State’s Center for Teaching and Learning. 12:00 noon to 1:00 pm in the Memorial Union\, rooms 109A and 109B. Brown bag lunches encouraged. For more information: oregonstate.edu/ctl/new-teaching-and-learning-symposium \nFebruary 11\, 2013Seminar “Red Sky at Morning: Ethics and Oceans” University of Washington IGERT Program on Ocean Change (IPOC). For information about IPOC: depts.washington.edu/igertpoc/ \nFebruary 26\, 2013Meeting with a book group in Corvallis\, using Moral Ground as the focus of discussion. \nMarch 2\, 2013Keynote speaker at the 26th Annual Biology Graduate Student Symposium (BGSS)\, Hatfield Marine Science Center in Newport\, Oregon. www.science.oregonstate.edu/bgss/ \nMarch 11\, 2013Science Pub talk “Climate Change is a Moral Crisis” 6:00 – 8:00 pm New World Deli\, Corvallis\, Oregon.For information about the Science Pub: www.omsi.edu/sciencepubcorvallis \nMarch 15 – 17\, 2013Speaker at Geography of Hope conference: “Finding Hope in the Land Ethic.” For information about the conference: www.ptreyesbooks.com/goh/aldo-leopold \nMarch 21\, 2013Speaker at Northwest Science Association meeting at the Portland University Place Hotel\, Portland\, Oregon. For information about the meeting: www.northwestscience.org/2012meeting \nMay 12\, 2013Speaker: “A Call to Mothers on Mothers Day” Climate Action Festival\, Portland Oregon \nMay 24 – 27\, 2013Speaker on May 24 at the Climate Solutions Symposium\, the start of the Mountainfilm Festival in Telluride\, Colorado. For information about the festival: www.mountainfilm.org/ \nMay 29 – June 1\, 2013Faculty member at the North Words Writers Symposium\, held in Skagway Alaska. For more information: www.nwwriterss.com/index.html \nOctober 12\, 2013Speaker “Global Warming: Between Hell and High Water” Yachats Academy of Arts and Sciences in Yachats\, Oregon. For information about YAAS: goyachats.com/Organizations/Details/243 \nNovember 9\, 2013Participant at the North Cascades Institute. For more information:ncascades.org/
URL:https://kathleendeanmoore.net/event/all-2013-events/
CATEGORIES:Archived Events
END:VEVENT
BEGIN:VEVENT
DTSTART;TZID=America/Los_Angeles:20121231T080000
DTEND;TZID=America/Los_Angeles:20121231T170000
DTSTAMP:20260422T092445
CREATED:20221127T192536Z
LAST-MODIFIED:20221127T192540Z
UID:456-1356940800-1356973200@kathleendeanmoore.net
SUMMARY:All 2012 Events
DESCRIPTION:January 3 – March 13“Environmental Humanities” course.  Tuesday evenings. University Honors College. Oregon State University\, Corvallis OR \nJanuary 14 – 15\, 2012Teaching writing workshops\, MFA Program\, Whidbey Writer’s Workshop. “The Nature Essay: Practicing the Osprey’s Art” and “The Work of the Writer in a World of Wounds.” Contact: Wayne Ude \nJanuary 19\, 2012Oregon State University presentation: “Hope and Moral Integrity\,”  Contact: Jesse Ford\, OSU. \nFebruary 21\, 2012Science Pub presentation: “Ethics and Climate Change.” OSU Cascades\, Bend\, OR \nMarch 15\, 2012Portland Garden Club presentation: “The Lily in Winter: Good Work in a Warming World” \nMarch 18\, 2012Transition Fidalgo & Friends presentation: “Moral Ground: Toward Ecological and Community Resilience”\, Hodson Hall\, Skagit Valley College\, Mount Vernon\, WA. For information: transitionfidalgo.org/ \nMarch 21\, 2012Simon Frasier University Downtown Lecture Series: “Moral Ground: Our Obligation to the Future”\, Harbor Centre\, Vancouver\, BC \nMarch 22\, 2012“Planet Under Pressure” Lecture Series lecture: “Ethics and Climate Change”\, Simon Frasier University\, Burnaby\, BC \nMay 6\, 2012Eugene Interfaith Earthkeepers lecture\, discussion: “Climate Action in Communities of Faith”\, Eugene\, Oregon \nMay 7\, 2012OSU Folk Club Annual Meeting presentation: “Legacies: What Do We Owe the Future?” \nMay 15\, 2012Willamette Writers lecture\, reading: “Common Dreams”\, Newport\, Oregon \nMay 16\, 2012Oregon Jewish Center lecture\, reading: “The Properties of Concrete: The Urban Photography of Alfred Edelmann”Portland\, Oregon \nJune 6\, 2012Elemental West Lecture Series presentation: “Reflections on Moving Water: A Literary Response to Drought and Flood” with Craig Childs. Los Angeles Public Library\, Los Angeles \nJune 7 – 10\, 2012Orion Society research symposium: “Imaging the Future”Blue Mountain Center\, Albany NY \nJune 14 – 17\, 2012Association for the Study of Literature and the Environment lecture\, panel discussion: “Environment\, Culture\, and Place in a Rapidly Changing North”\, Juneau\, AK \nJuly 18 – 20\, 2012Island Institute Seminar “Inner Circle” discussion: “Resilient Communities: A Forum of Creative Resistance”Sitka\, AK \nSeptember 21\, 2012Desert Conference XXVI in Bend\, OR; keynote address\, ‘What’s Worth Saving?’ For more information: onda.org/desertconference \nSeptember 28 – 30\, 2012Blue River Writers’ Gathering\, participant and organizer\, H.J. Andrews Research Forest\, Blue River\, Oregon \nOctober 1 – 7\, 2012Nobel Conference “Our Global Ocean\,” presenter Gustavus Adolphus College\, St. Peter\, Minnesota gustavus.edu/events/nobelconference/2012/ \nOctober 7 – 10\, 2012The Omega Institute Workshop\, instructor: “Nature and the Spirit: The Art and Practice of the Nature Essay”\, Rhinebeck\, New York eomega.org/workshops/nature-spirit#-workshop-description-block \nOctober 15-16\, 2012Delaware Interfaith Power and Light Conference\, University of Delaware\, Newark\, New Jersey www.deipl.org/ \nOctober 18 – 20\, 2012Orion Society Board of Directors Annual Meeting\, Great Barrington\, Massachusetts \nOctober 22 – 25\, 2012University of Minnesota\, Environmental Studies Scholar in Residence\, Morris\, Minnesota www.morris.umn.edu/newsevents/view.php?itemID=12329 \nOctober 29\, 2012University of Portland Visiting Writer\, Portland\, Oregon college.up.edu/english/default.aspx?cid=2698&pid=636 \nNovember 2\, 2012Magic Barrel: a Reading to Fight Hunger; 6:30 music\, 7:00 program\, Whiteside Theatre\, Corvallis\, Oregon www.magicbarrel.org/ \nNovember 19\, 2012Writers on the River; 6:30 – 8:00 pm\, First Presbyterian Church\, Corvallis\, Oregon www.writersontheriver.com/ \nDecember 11-12\, 2012Keynote talk on December 12: “A River is a Book\, A Book is a River”\, Willamette River Planning Conference: Within Our Reach\, Corvallis\, Oregon. For conference information: withinourreach.net/
URL:https://kathleendeanmoore.net/event/all-2012-events/
CATEGORIES:Archived Events
END:VEVENT
BEGIN:VEVENT
DTSTART;TZID=America/Los_Angeles:20111231T080000
DTEND;TZID=America/Los_Angeles:20111231T170000
DTSTAMP:20260422T092445
CREATED:20221127T192701Z
LAST-MODIFIED:20221127T192706Z
UID:462-1325318400-1325350800@kathleendeanmoore.net
SUMMARY:All 2011 Events
DESCRIPTION:January 6\, 7:30Sitka\, Alaska. Phone conversation about MORAL GROUND with Moral Ground Study Group. “Gratitude” and “Virtue.” Contact: Carolyn Servid\, island@ak.net. \nJanuary 11\, 7:00Berkeley\, California. Annual meeting of the Center for MultiScale Modeling of Atmospheric Processes. “Climate Ethics and Social Change.” Contact: David Randall\, CMMAP Director. \nJanuary 15\, 3:00Honolulu\, Hawaii. Native Books and Pacific Writers’ Connection. Public Lecture “MORAL GROUND: Climate Change and Intergenerational Human Rights.” Contact: Takiora Ingram\, tingram.raro@gmail.com. \nJanuary 29 and 30\, 9 – 4:30Hanalei\, Hawaii. Weekend writing workshop. Pacific Writers’ Connection. “When Darkness Turns Unexpectedly to Light.” Contact: Hob Osterlund\, chucklechannel@hawaii.rr.com. FULL. \nFebruary 3\, 10:30Washington\, DC. Associated Writers’ Programs national meeting. Panel discussion\, “Recovery as Discovery: Rethinking Nature Writing.” Contact: Thomas Montgomery-Fate\, Montgome@cod.edu. \nFebruary 4\, 9:00Washington\, DC. Associated Writers’ Programs national meeting\, Panel discussion\, “Where Science and Justice Meet: The Necessity of Environmental Writing.” Contact: Nancy Lord\, nlord@xyz.net. \nFebruary 6\, 4:00 – 6:00Portland\, Oregon. Portland Philosophy Café. Informal group discussion of MORAL GROUND and our obligations to future generations in a time of environmental and climate change. Contact: Brian Elliott\, philosophycafeportland@gmail.com. \nFebruary 9\, 7:00Bellingham\, Washington. Village Books. Reading and discussion of MORAL GROUND: Ethical Action for a Planet in Peril. Information: http://villagebooks.com/event. \nFebruary 10\, 7:00Lummi Island\, Washington. Grange Hall. Lummi Island Heritage Trust. Keynote address\, “What Do We Owe the Future?” Contact: Megan Crouse\, megan@liht.org. \nFebruary 18 – 19\, 9:00 to 9:00 each dayOregon State University\, Corvallis\, Oregon. SONG FOR THE BLUE OCEAN: Science\, Arts\, and Ethics. A public seminar/celebration sponsored by the Spring Creek Project for Ideas\, Nature\, and the Written Word\, featuring writers\, film-makers\, musicians\, scientists\, and activists in workshops\, lectures\, film showings\, debates\, duets. Can our love for the life-sustaining oceans lead us to act in their defense? For more information\, http://springcreek.oregonstate.edu/. Saturday\, February 19\, 9 am: Ocean Wisdoms: Braiding Science And Humanities – Kathleen Dean Moore (Philosophy) and Burke Hales (Oceanography)\, “Ocean Acidification: The Science and the Ethics.” \nApril 9Boston\, Massachusetts. MORAL GROUND: Ethical Action for a Planet in Peril. Details to be announced. Contact: Tom Payton\, Trinity University Press\, tpayton@trinity.edu. \nMay 19\, 2011Corvallis\, Oregon. University Retirement Association. After-dinner address\, “MORAL GROUND: Do We Have Obligations to the Future?” Alumni Center\, Oregon State University \nJune 17 – 18\, 2011Severson Dells\, Wisconsin. Public symposium/celebration. A River Gathering: There’s No Place Like Home. Kathleen Dean Moore: Keynote June 17\, 7:00\, “Somewhere\, a River is Singing\,” and writing workshop June 18\, 9:00 – 11:00. Contact: Don Miller\, don@seversondells.org . \nJune 20\, 2011Crystal Lake\, Illinois. Public lecture. “Moral Ground: A Discussion of Global Environmental Ethics. MCC Conference Center.  Contact: Leslie Krebs\, LKrebs@mccdistrict.org \nJune 21 – 25\, 2011Bloomington\, Indiana. Association for the Study of Literature and the Environment.  June 23\, “Animal\, Vegetable\, Ethical: Something New is Required of Us\,” Kathleen Dean Moore\, Charles Goodrich\, and Scott Russell Sanders. \nJuly 24 – 29\, 2011McCarthy\, Alaska. Wrangel Mountains Writing Center\, Wild Comfort\, “Join Kathleen Dean Moore and other writers and artists for an interdisciplinary writing workshop in an intimate and inspiring Alaskan setting.” Contact: Nancy Cook\, spandika@yahoo.com.
URL:https://kathleendeanmoore.net/event/all-2011-events/
CATEGORIES:Archived Events
END:VEVENT
END:VCALENDAR